BEGIN:VCALENDAR
VERSION:2.0
PRODID:-//ReceiverFactory - ECPv6.15.20//NONSGML v1.0//EN
CALSCALE:GREGORIAN
METHOD:PUBLISH
X-WR-CALNAME:ReceiverFactory
X-ORIGINAL-URL:https://receiver-factory.de
X-WR-CALDESC:Veranstaltungen für ReceiverFactory
REFRESH-INTERVAL;VALUE=DURATION:PT1H
X-Robots-Tag:noindex
X-PUBLISHED-TTL:PT1H
BEGIN:VTIMEZONE
TZID:Europe/Berlin
BEGIN:DAYLIGHT
TZOFFSETFROM:+0100
TZOFFSETTO:+0200
TZNAME:CEST
DTSTART:20240331T010000
END:DAYLIGHT
BEGIN:STANDARD
TZOFFSETFROM:+0200
TZOFFSETTO:+0100
TZNAME:CET
DTSTART:20241027T010000
END:STANDARD
BEGIN:DAYLIGHT
TZOFFSETFROM:+0100
TZOFFSETTO:+0200
TZNAME:CEST
DTSTART:20250330T010000
END:DAYLIGHT
BEGIN:STANDARD
TZOFFSETFROM:+0200
TZOFFSETTO:+0100
TZNAME:CET
DTSTART:20251026T010000
END:STANDARD
BEGIN:DAYLIGHT
TZOFFSETFROM:+0100
TZOFFSETTO:+0200
TZNAME:CEST
DTSTART:20260329T010000
END:DAYLIGHT
BEGIN:STANDARD
TZOFFSETFROM:+0200
TZOFFSETTO:+0100
TZNAME:CET
DTSTART:20261025T010000
END:STANDARD
BEGIN:DAYLIGHT
TZOFFSETFROM:+0100
TZOFFSETTO:+0200
TZNAME:CEST
DTSTART:20270328T010000
END:DAYLIGHT
BEGIN:STANDARD
TZOFFSETFROM:+0200
TZOFFSETTO:+0100
TZNAME:CET
DTSTART:20271031T010000
END:STANDARD
END:VTIMEZONE
BEGIN:VEVENT
DTSTART;TZID=Europe/Berlin:20260406T130000
DTEND;TZID=Europe/Berlin:20260406T150000
DTSTAMP:20260422T204545
CREATED:20260219T145533Z
LAST-MODIFIED:20260219T145533Z
UID:9048-1775480400-1775487600@receiver-factory.de
SUMMARY:Weekend Training Session
DESCRIPTION:Melde dich an für 2h Indies & Athletic work! \nBis zu 8 Plätze/ Einheit sind verfügbar\, first come first serve. \nKosten: 15€/ Einheit \nOrt: Sportplatz Kroonhorst \nMelde dich jetzt an: Anmeldung Weekend Sessions
URL:https://receiver-factory.de/event/weekend-training-session-3/
LOCATION:Devils Homefield\, Kroonhorst 117\, Hamburg\, 22549\, Germany
CATEGORIES:Weekend Sessions
ATTACH;FMTTYPE=image/png:https://receiver-factory.de/wp-content/uploads/2026/02/weeken_session-e1771324785494.png
ORGANIZER;CN="ReceiverFactory":MAILTO:info@receiver-factory.de
END:VEVENT
BEGIN:VEVENT
DTSTART;TZID=Europe/Berlin:20260404T110000
DTEND;TZID=Europe/Berlin:20260404T130000
DTSTAMP:20260422T204545
CREATED:20260217T104451Z
LAST-MODIFIED:20260217T104451Z
UID:9045-1775300400-1775307600@receiver-factory.de
SUMMARY:Weekend Training Session
DESCRIPTION:Melde dich an für 2h Indies & Athletic work! \nBis zu 8 Plätze/ Einheit sind verfügbar\, first come first serve. \nKosten: 15€/ Einheit \nOrt: Sportplatz Kroonhorst \nMelde dich jetzt an: Anmeldung Weekend Sessions
URL:https://receiver-factory.de/event/weekend-training-session-2/
LOCATION:Devils Homefield\, Kroonhorst 117\, Hamburg\, 22549\, Germany
CATEGORIES:Weekend Sessions
ATTACH;FMTTYPE=image/png:https://receiver-factory.de/wp-content/uploads/2026/02/weeken_session-e1771324785494.png
ORGANIZER;CN="ReceiverFactory":MAILTO:info@receiver-factory.de
END:VEVENT
BEGIN:VEVENT
DTSTART;TZID=Europe/Berlin:20260321T110000
DTEND;TZID=Europe/Berlin:20260321T130000
DTSTAMP:20260422T204545
CREATED:20260217T103307Z
LAST-MODIFIED:20260217T104154Z
UID:9038-1774090800-1774098000@receiver-factory.de
SUMMARY:Weekend Training Session
DESCRIPTION:Melde dich an für 2h Indies & Athletic work! \nBis zu 8 Plätze/ Einheit sind verfügbar\, first come first serve. \nKosten: 15€/ Einheit \nOrt: Sportplatz Kroonhorst \nMelde dich jetzt an: Anmeldung Weekend Sessions
URL:https://receiver-factory.de/event/weekend-training-session/
LOCATION:Devils Homefield\, Kroonhorst 117\, Hamburg\, 22549\, Germany
CATEGORIES:Weekend Sessions
ATTACH;FMTTYPE=image/png:https://receiver-factory.de/wp-content/uploads/2026/02/weeken_session-e1771324785494.png
ORGANIZER;CN="ReceiverFactory":MAILTO:info@receiver-factory.de
END:VEVENT
BEGIN:VEVENT
DTSTART;TZID=Europe/Berlin:20251108T140000
DTEND;TZID=Europe/Berlin:20251108T173000
DTSTAMP:20260422T204545
CREATED:20250728T195254Z
LAST-MODIFIED:20260105T145222Z
UID:8611-1762610400-1762623000@receiver-factory.de
SUMMARY:Receiver Factory Winter Camp 2025
DESCRIPTION:Die Offseason zerrt an dir & der Winter macht träge? \nNICHT MIT UNS! \nMelde dich jetzt für das Receiver Factory Winter Camp 2025!\n \nIn ca. 4h Receiver-DayCamp arbeiten wir an deiner Progression für die neue Saison! \nIm Preis sind neben Sideline-Snacks & Getränken selbstverständlich auch ein Shirt enthalten. Für 10€ Aufpreis sogar mit deiner individuellen Wunsch-Nummer!
URL:https://receiver-factory.de/event/receiver-factory-winter-camp/
LOCATION:Pioneers Homefield\, Jahnring 26\, Hamburg\, Hamburg\, 22297\, Germany
CATEGORIES:DayCamps
ATTACH;FMTTYPE=image/png:https://receiver-factory.de/wp-content/uploads/2025/07/Produktbild_WinterCamp-scaled-e1756812642431.png
ORGANIZER;CN="ReceiverFactory":MAILTO:info@receiver-factory.de
END:VEVENT
END:VCALENDAR